Package: arrayMvout Version: 1.67.0 Command: /home/biocbuild/R/R/bin/R CMD build --keep-empty-dirs --no-resave-data arrayMvout StartedAt: 2025-10-23 21:45:53 -0000 (Thu, 23 Oct 2025) EndedAt: 2025-10-23 21:47:14 -0000 (Thu, 23 Oct 2025) EllapsedTime: 81.0 seconds RetCode: 0 Status: OK PackageFile: arrayMvout_1.67.0.tar.gz PackageFileSize: 684.5 KiB