Package: arrayMvout Version: 1.67.0 Command: /home/biocbuild/bbs-3.22-bioc/R/bin/R CMD INSTALL arrayMvout StartedAt: 2025-10-24 16:12:09 -0400 (Fri, 24 Oct 2025) EndedAt: 2025-10-24 16:12:54 -0400 (Fri, 24 Oct 2025) EllapsedTime: 44.7 seconds RetCode: 0 Status: OK