Package: arrayMvout Version: 1.67.0 Command: /home/biocbuild/bbs-3.22-bioc/R/bin/R CMD check --install=check:arrayMvout.install-out.txt --library=/home/biocbuild/bbs-3.22-bioc/R/site-library --timings arrayMvout_1.67.0.tar.gz StartedAt: 2025-10-24 21:12:34 -0400 (Fri, 24 Oct 2025) EndedAt: 2025-10-24 21:18:06 -0400 (Fri, 24 Oct 2025) EllapsedTime: 331.4 seconds RetCode: 0 Status: OK CheckDir: arrayMvout.Rcheck Warnings: 0