Package: arrayMvout Version: 1.67.0 Command: /Library/Frameworks/R.framework/Resources/bin/R CMD INSTALL arrayMvout StartedAt: 2025-10-26 15:32:43 -0400 (Sun, 26 Oct 2025) EndedAt: 2025-10-26 15:33:01 -0400 (Sun, 26 Oct 2025) EllapsedTime: 18.6 seconds RetCode: 0 Status: OK