Package: arrayMvout Version: 1.67.0 Command: /Library/Frameworks/R.framework/Resources/bin/R CMD check --install=check:arrayMvout.install-out.txt --library=/Library/Frameworks/R.framework/Resources/library --no-vignettes --timings arrayMvout_1.67.0.tar.gz StartedAt: 2025-10-26 18:39:57 -0400 (Sun, 26 Oct 2025) EndedAt: 2025-10-26 18:42:00 -0400 (Sun, 26 Oct 2025) EllapsedTime: 123.5 seconds RetCode: 0 Status: OK CheckDir: arrayMvout.Rcheck Warnings: 0