Package: arrayMvout Version: 1.67.0 Command: /Library/Frameworks/R.framework/Resources/bin/R CMD build --keep-empty-dirs --no-resave-data arrayMvout StartedAt: 2025-10-26 15:38:50 -0400 (Sun, 26 Oct 2025) EndedAt: 2025-10-26 15:39:19 -0400 (Sun, 26 Oct 2025) EllapsedTime: 28.4 seconds RetCode: 0 Status: OK PackageFile: arrayMvout_1.67.0.tar.gz PackageFileSize: 692.9 KiB