Package: arrayMvout Version: 1.67.0 Command: rm -rf arrayMvout.buildbin-libdir && mkdir arrayMvout.buildbin-libdir && /Users/biocbuild/BBS/utils/build-universal.sh arrayMvout_1.67.0.tar.gz /Library/Frameworks/R.framework/Resources/bin/R arrayMvout.buildbin-libdir StartedAt: 2025-10-26 22:28:59 -0400 (Sun, 26 Oct 2025) EndedAt: 2025-10-26 22:29:19 -0400 (Sun, 26 Oct 2025) EllapsedTime: 20.4 seconds RetCode: 0 Status: OK PackageFile: arrayMvout_1.67.0.tgz PackageFileSize: 857.9 KiB