Package: appreci8R Version: 1.28.0 Command: /home/biocbuild/bbs-3.22-bioc/R/bin/R CMD INSTALL appreci8R StartedAt: 2025-10-31 16:11:03 -0400 (Fri, 31 Oct 2025) EndedAt: 2025-10-31 16:12:21 -0400 (Fri, 31 Oct 2025) EllapsedTime: 78.2 seconds RetCode: 0 Status: OK