Package: apeglm Version: 1.32.0 Command: /Library/Frameworks/R.framework/Resources/bin/R CMD INSTALL apeglm StartedAt: 2025-11-03 15:32:32 -0500 (Mon, 03 Nov 2025) EndedAt: 2025-11-03 15:33:34 -0500 (Mon, 03 Nov 2025) EllapsedTime: 62.2 seconds RetCode: 0 Status: OK