Package: apeglm Version: 1.31.0 Command: /Library/Frameworks/R.framework/Resources/bin/R CMD build --keep-empty-dirs --no-resave-data apeglm StartedAt: 2025-10-24 15:41:00 -0400 (Fri, 24 Oct 2025) EndedAt: 2025-10-24 15:41:34 -0400 (Fri, 24 Oct 2025) EllapsedTime: 34.5 seconds RetCode: 0 Status: OK PackageFile: apeglm_1.31.0.tar.gz PackageFileSize: 1.264 MiB