Package: apeglm Version: 1.32.0 Maintainer: Anqi Zhu MaintainerEmail: anqizhu at live.unc.edu git_url: https://git.bioconductor.org/packages/apeglm git_branch: RELEASE_3_22 git_last_commit: 8940580 git_last_commit_date: 2025-10-29 10:40:36 -0400 (Wed, 29 Oct 2025)