Package: apComplex Version: 2.75.0 Command: /home/biocbuild/bbs-3.22-bioc/R/bin/R CMD check --install=check:apComplex.install-out.txt --library=/home/biocbuild/bbs-3.22-bioc/R/site-library --timings apComplex_2.75.0.tar.gz StartedAt: 2025-10-24 21:11:54 -0400 (Fri, 24 Oct 2025) EndedAt: 2025-10-24 21:13:43 -0400 (Fri, 24 Oct 2025) EllapsedTime: 108.2 seconds RetCode: 0 Status: OK CheckDir: apComplex.Rcheck Warnings: 0