Package: apComplex Version: 2.75.0 Command: /Library/Frameworks/R.framework/Resources/bin/R CMD INSTALL apComplex StartedAt: 2025-10-24 15:37:13 -0400 (Fri, 24 Oct 2025) EndedAt: 2025-10-24 15:37:32 -0400 (Fri, 24 Oct 2025) EllapsedTime: 18.7 seconds RetCode: 0 Status: OK