Package: apComplex Version: 2.75.0 Command: /Library/Frameworks/R.framework/Resources/bin/R CMD build --keep-empty-dirs --no-resave-data apComplex StartedAt: 2025-10-24 16:08:51 -0400 (Fri, 24 Oct 2025) EndedAt: 2025-10-24 16:09:20 -0400 (Fri, 24 Oct 2025) EllapsedTime: 28.6 seconds RetCode: 0 Status: OK PackageFile: apComplex_2.75.0.tar.gz PackageFileSize: 626.6 KiB