Package: apComplex Version: 2.75.0 Command: rm -rf apComplex.buildbin-libdir && mkdir apComplex.buildbin-libdir && /Users/biocbuild/BBS/utils/build-universal.sh apComplex_2.75.0.tar.gz /Library/Frameworks/R.framework/Resources/bin/R apComplex.buildbin-libdir StartedAt: 2025-10-25 01:27:59 -0400 (Sat, 25 Oct 2025) EndedAt: 2025-10-25 01:28:20 -0400 (Sat, 25 Oct 2025) EllapsedTime: 21.0 seconds RetCode: 0 Status: OK PackageFile: apComplex_2.75.0.tgz PackageFileSize: 686 KiB