Package: apComplex Version: 2.75.0 Command: /Library/Frameworks/R.framework/Resources/bin/R CMD build --keep-empty-dirs --no-resave-data apComplex StartedAt: 2025-10-24 15:41:00 -0400 (Fri, 24 Oct 2025) EndedAt: 2025-10-24 15:41:10 -0400 (Fri, 24 Oct 2025) EllapsedTime: 10.1 seconds RetCode: 0 Status: OK PackageFile: apComplex_2.75.0.tar.gz PackageFileSize: 627.2 KiB