Package: anota2seq Version: 1.32.0 Command: /home/biocbuild/bbs-3.22-bioc/R/bin/R CMD INSTALL anota2seq StartedAt: 2025-11-02 15:30:21 -0500 (Sun, 02 Nov 2025) EndedAt: 2025-11-02 15:31:03 -0500 (Sun, 02 Nov 2025) EllapsedTime: 42.0 seconds RetCode: 0 Status: OK