Package: anota2seq Version: 1.32.0 Command: /home/biocbuild/bbs-3.22-bioc/R/bin/R CMD build --keep-empty-dirs --no-resave-data --md5 anota2seq StartedAt: 2025-11-03 16:15:31 -0500 (Mon, 03 Nov 2025) EndedAt: 2025-11-03 16:17:55 -0500 (Mon, 03 Nov 2025) EllapsedTime: 144.1 seconds RetCode: 0 Status: OK PackageFile: anota2seq_1.32.0.tar.gz PackageFileSize: 1.006 MiB