Package: annotatr Version: 1.35.2 Command: /home/biocbuild/R/R/bin/R CMD build --keep-empty-dirs --no-resave-data annotatr StartedAt: 2025-10-23 21:43:00 -0000 (Thu, 23 Oct 2025) EndedAt: 2025-10-23 21:46:35 -0000 (Thu, 23 Oct 2025) EllapsedTime: 215.1 seconds RetCode: 0 Status: OK PackageFile: annotatr_1.35.2.tar.gz PackageFileSize: 2.101 MiB