Package: annotatr Version: 1.35.2 Command: /home/biocbuild/bbs-3.22-bioc/R/bin/R CMD INSTALL annotatr StartedAt: 2025-10-24 15:53:00 -0400 (Fri, 24 Oct 2025) EndedAt: 2025-10-24 15:53:43 -0400 (Fri, 24 Oct 2025) EllapsedTime: 42.9 seconds RetCode: 0 Status: OK