Package: annotatr Version: 1.35.2 Command: /home/biocbuild/bbs-3.22-bioc/R/bin/R CMD check --install=check:annotatr.install-out.txt --library=/home/biocbuild/bbs-3.22-bioc/R/site-library --timings annotatr_1.35.2.tar.gz StartedAt: 2025-10-24 21:10:47 -0400 (Fri, 24 Oct 2025) EndedAt: 2025-10-24 21:18:45 -0400 (Fri, 24 Oct 2025) EllapsedTime: 477.6 seconds RetCode: 0 Status: OK CheckDir: annotatr.Rcheck Warnings: 0