Package: annotatr Version: 1.35.2 Command: /home/biocbuild/bbs-3.22-bioc/R/bin/R CMD build --keep-empty-dirs --no-resave-data --md5 annotatr StartedAt: 2025-10-24 16:22:45 -0400 (Fri, 24 Oct 2025) EndedAt: 2025-10-24 16:25:27 -0400 (Fri, 24 Oct 2025) EllapsedTime: 161.2 seconds RetCode: 0 Status: OK PackageFile: annotatr_1.35.2.tar.gz PackageFileSize: 2.655 MiB