Package: annotatr Version: 1.35.2 Command: /Library/Frameworks/R.framework/Resources/bin/R CMD build --keep-empty-dirs --no-resave-data annotatr StartedAt: 2025-10-24 16:08:15 -0400 (Fri, 24 Oct 2025) EndedAt: 2025-10-24 16:11:32 -0400 (Fri, 24 Oct 2025) EllapsedTime: 197.7 seconds RetCode: 0 Status: OK PackageFile: annotatr_1.35.2.tar.gz PackageFileSize: 2.461 MiB