Package: annotatr Version: 1.35.2 Command: rm -rf annotatr.buildbin-libdir && mkdir annotatr.buildbin-libdir && /Users/biocbuild/BBS/utils/build-universal.sh annotatr_1.35.2.tar.gz /Library/Frameworks/R.framework/Resources/bin/R annotatr.buildbin-libdir StartedAt: 2025-10-25 01:27:49 -0400 (Sat, 25 Oct 2025) EndedAt: 2025-10-25 01:28:50 -0400 (Sat, 25 Oct 2025) EllapsedTime: 61.1 seconds RetCode: 0 Status: OK PackageFile: annotatr_1.35.2.tgz PackageFileSize: 2.685 MiB