Package: annotatr Version: 1.35.2 Command: /Library/Frameworks/R.framework/Resources/bin/R CMD INSTALL annotatr StartedAt: 2025-10-24 15:24:24 -0400 (Fri, 24 Oct 2025) EndedAt: 2025-10-24 15:24:41 -0400 (Fri, 24 Oct 2025) EllapsedTime: 17.0 seconds RetCode: 0 Status: OK