Package: annotatr Version: 1.35.2 Maintainer: Raymond G. Cavalcante MaintainerEmail: rcavalca at umich.edu git_url: https://git.bioconductor.org/packages/annotatr git_branch: devel git_last_commit: 0d39a96 git_last_commit_date: 2025-10-14 11:25:15 -0400 (Tue, 14 Oct 2025)