Package: annotationTools Version: 1.83.0 Command: /home/biocbuild/bbs-3.22-bioc/R/bin/R CMD INSTALL annotationTools StartedAt: 2025-10-27 15:14:41 -0400 (Mon, 27 Oct 2025) EndedAt: 2025-10-27 15:14:45 -0400 (Mon, 27 Oct 2025) EllapsedTime: 3.5 seconds RetCode: 0 Status: OK