Package: annotationTools Version: 1.83.0 Command: /home/biocbuild/bbs-3.22-bioc/R/bin/R CMD check --install=check:annotationTools.install-out.txt --library=/home/biocbuild/bbs-3.22-bioc/R/site-library --timings annotationTools_1.83.0.tar.gz StartedAt: 2025-10-27 21:03:09 -0400 (Mon, 27 Oct 2025) EndedAt: 2025-10-27 21:03:38 -0400 (Mon, 27 Oct 2025) EllapsedTime: 29.0 seconds RetCode: 0 Status: OK CheckDir: annotationTools.Rcheck Warnings: 0