Package: annotationTools Version: 1.83.0 Command: /Library/Frameworks/R.framework/Resources/bin/R CMD INSTALL annotationTools StartedAt: 2025-10-24 15:22:06 -0400 (Fri, 24 Oct 2025) EndedAt: 2025-10-24 15:22:11 -0400 (Fri, 24 Oct 2025) EllapsedTime: 4.7 seconds RetCode: 0 Status: OK