Package: annotationTools Version: 1.83.0 Command: /Library/Frameworks/R.framework/Resources/bin/R CMD build --keep-empty-dirs --no-resave-data annotationTools StartedAt: 2025-10-24 16:08:15 -0400 (Fri, 24 Oct 2025) EndedAt: 2025-10-24 16:08:31 -0400 (Fri, 24 Oct 2025) EllapsedTime: 16.1 seconds RetCode: 0 Status: OK PackageFile: annotationTools_1.83.0.tar.gz PackageFileSize: 332.8 KiB