Package: annotationTools Version: 1.83.0 Command: rm -rf annotationTools.buildbin-libdir && mkdir annotationTools.buildbin-libdir && /Users/biocbuild/BBS/utils/build-universal.sh annotationTools_1.83.0.tar.gz /Library/Frameworks/R.framework/Resources/bin/R annotationTools.buildbin-libdir StartedAt: 2025-10-25 01:27:49 -0400 (Sat, 25 Oct 2025) EndedAt: 2025-10-25 01:27:56 -0400 (Sat, 25 Oct 2025) EllapsedTime: 7.0 seconds RetCode: 0 Status: OK PackageFile: annotationTools_1.83.0.tgz PackageFileSize: 392.2 KiB