Package: annotationTools Version: 1.83.0 Command: /Library/Frameworks/R.framework/Resources/bin/R CMD build --keep-empty-dirs --no-resave-data annotationTools StartedAt: 2025-10-24 15:40:33 -0400 (Fri, 24 Oct 2025) EndedAt: 2025-10-24 15:40:38 -0400 (Fri, 24 Oct 2025) EllapsedTime: 5.1 seconds RetCode: 0 Status: OK PackageFile: annotationTools_1.83.0.tar.gz PackageFileSize: 333.5 KiB