Package: annotate Version: 1.87.0 Command: /home/biocbuild/R/R/bin/R CMD INSTALL annotate StartedAt: 2025-10-23 20:47:31 -0000 (Thu, 23 Oct 2025) EndedAt: 2025-10-23 20:47:53 -0000 (Thu, 23 Oct 2025) EllapsedTime: 22.1 seconds RetCode: 0 Status: OK