Package: annotate Version: 1.87.0 Command: /home/biocbuild/R/R/bin/R CMD build --keep-empty-dirs --no-resave-data annotate StartedAt: 2025-10-23 21:42:01 -0000 (Thu, 23 Oct 2025) EndedAt: 2025-10-23 21:43:26 -0000 (Thu, 23 Oct 2025) EllapsedTime: 85.0 seconds RetCode: 0 Status: OK PackageFile: annotate_1.87.0.tar.gz PackageFileSize: 1.817 MiB