Package: annotate Version: 1.87.0 Command: /Library/Frameworks/R.framework/Resources/bin/R CMD check --install=check:annotate.install-out.txt --library=/Library/Frameworks/R.framework/Resources/library --no-vignettes --timings annotate_1.87.0.tar.gz StartedAt: 2025-10-26 18:38:17 -0400 (Sun, 26 Oct 2025) EndedAt: 2025-10-26 18:39:59 -0400 (Sun, 26 Oct 2025) EllapsedTime: 101.4 seconds RetCode: 0 Status: OK CheckDir: annotate.Rcheck Warnings: 0