Package: anndataR Version: 0.99.6 Command: /home/biocbuild/bbs-3.22-bioc/R/bin/R CMD INSTALL anndataR StartedAt: 2025-10-27 15:13:20 -0400 (Mon, 27 Oct 2025) EndedAt: 2025-10-27 15:13:37 -0400 (Mon, 27 Oct 2025) EllapsedTime: 17.1 seconds RetCode: 0 Status: OK