Package: anndataR Version: 1.0.0 Command: /Library/Frameworks/R.framework/Resources/bin/R CMD INSTALL anndataR StartedAt: 2025-10-30 15:06:10 -0400 (Thu, 30 Oct 2025) EndedAt: 2025-10-30 15:06:16 -0400 (Thu, 30 Oct 2025) EllapsedTime: 6.7 seconds RetCode: 0 Status: OK