Package: anndataR Version: 1.0.0 Command: /Library/Frameworks/R.framework/Resources/bin/R CMD build --keep-empty-dirs --no-resave-data anndataR StartedAt: 2025-10-30 15:37:22 -0400 (Thu, 30 Oct 2025) EndedAt: 2025-10-30 15:38:57 -0400 (Thu, 30 Oct 2025) EllapsedTime: 95.0 seconds RetCode: 0 Status: OK PackageFile: anndataR_1.0.0.tar.gz PackageFileSize: 2.097 MiB