Package: anansi Version: 0.99.4 Command: /home/biocbuild/bbs-3.22-bioc/R/bin/R CMD build --keep-empty-dirs --no-resave-data --md5 anansi StartedAt: 2025-10-24 16:21:17 -0400 (Fri, 24 Oct 2025) EndedAt: 2025-10-24 16:22:29 -0400 (Fri, 24 Oct 2025) EllapsedTime: 72.1 seconds RetCode: 0 Status: OK PackageFile: anansi_0.99.4.tar.gz PackageFileSize: 4.25 MiB