Package: altcdfenvs Version: 2.71.0 Command: /home/biocbuild/bbs-3.22-bioc/R/bin/R CMD INSTALL altcdfenvs StartedAt: 2025-10-24 15:26:01 -0400 (Fri, 24 Oct 2025) EndedAt: 2025-10-24 15:26:15 -0400 (Fri, 24 Oct 2025) EllapsedTime: 14.0 seconds RetCode: 0 Status: OK