Package: alevinQC Version: 1.25.1 Command: /home/biocbuild/bbs-3.22-bioc/R/bin/R CMD INSTALL alevinQC StartedAt: 2025-10-24 15:20:39 -0400 (Fri, 24 Oct 2025) EndedAt: 2025-10-24 15:20:55 -0400 (Fri, 24 Oct 2025) EllapsedTime: 16.6 seconds RetCode: 0 Status: OK