Package: alabaster.vcf Version: 1.9.0 Command: /home/biocbuild/bbs-3.22-bioc/R/bin/R CMD INSTALL alabaster.vcf StartedAt: 2025-10-24 16:08:42 -0400 (Fri, 24 Oct 2025) EndedAt: 2025-10-24 16:09:26 -0400 (Fri, 24 Oct 2025) EllapsedTime: 43.9 seconds RetCode: 0 Status: OK