Package: alabaster.vcf Version: 1.9.0 Command: /home/biocbuild/bbs-3.22-bioc/R/bin/R CMD build --keep-empty-dirs --no-resave-data --md5 alabaster.vcf StartedAt: 2025-10-28 16:10:45 -0400 (Tue, 28 Oct 2025) EndedAt: 2025-10-28 16:11:51 -0400 (Tue, 28 Oct 2025) EllapsedTime: 66.1 seconds RetCode: 0 Status: OK PackageFile: alabaster.vcf_1.9.0.tar.gz PackageFileSize: 223.6 KiB