Package: alabaster.string Version: 1.9.0 Command: /Library/Frameworks/R.framework/Resources/bin/R CMD INSTALL alabaster.string StartedAt: 2025-10-24 15:57:15 -0400 (Fri, 24 Oct 2025) EndedAt: 2025-10-24 15:57:32 -0400 (Fri, 24 Oct 2025) EllapsedTime: 17.3 seconds RetCode: 0 Status: OK