Package: alabaster.string Version: 1.9.0 Command: /Library/Frameworks/R.framework/Resources/bin/R CMD INSTALL alabaster.string StartedAt: 2025-10-27 15:30:47 -0400 (Mon, 27 Oct 2025) EndedAt: 2025-10-27 15:30:53 -0400 (Mon, 27 Oct 2025) EllapsedTime: 5.3 seconds RetCode: 0 Status: OK