Package: alabaster.string Version: 1.9.0 Command: rm -rf alabaster.string.buildbin-libdir && mkdir alabaster.string.buildbin-libdir && /Users/biocbuild/BBS/utils/build-universal.sh alabaster.string_1.9.0.tar.gz /Library/Frameworks/R.framework/Resources/bin/R alabaster.string.buildbin-libdir StartedAt: 2025-10-27 22:53:04 -0400 (Mon, 27 Oct 2025) EndedAt: 2025-10-27 22:53:10 -0400 (Mon, 27 Oct 2025) EllapsedTime: 6.1 seconds RetCode: 0 Status: OK PackageFile: alabaster.string_1.9.0.tgz PackageFileSize: 277.7 KiB