Package: alabaster.spatial Version: 1.9.0 Command: /home/biocbuild/bbs-3.22-bioc/R/bin/R CMD INSTALL alabaster.spatial StartedAt: 2025-10-27 15:36:54 -0400 (Mon, 27 Oct 2025) EndedAt: 2025-10-27 15:37:23 -0400 (Mon, 27 Oct 2025) EllapsedTime: 29.3 seconds RetCode: 0 Status: OK