Package: alabaster.spatial Version: 1.9.0 Command: /home/biocbuild/bbs-3.22-bioc/R/bin/R CMD check --install=check:alabaster.spatial.install-out.txt --library=/home/biocbuild/bbs-3.22-bioc/R/site-library --timings alabaster.spatial_1.9.0.tar.gz StartedAt: 2025-10-27 20:58:25 -0400 (Mon, 27 Oct 2025) EndedAt: 2025-10-27 21:02:16 -0400 (Mon, 27 Oct 2025) EllapsedTime: 231.2 seconds RetCode: 0 Status: OK CheckDir: alabaster.spatial.Rcheck Warnings: 0