Package: alabaster.spatial Version: 1.9.0 Command: /Library/Frameworks/R.framework/Resources/bin/R CMD INSTALL alabaster.spatial StartedAt: 2025-10-27 15:35:21 -0400 (Mon, 27 Oct 2025) EndedAt: 2025-10-27 15:36:02 -0400 (Mon, 27 Oct 2025) EllapsedTime: 40.9 seconds RetCode: 0 Status: OK