Package: alabaster.spatial Version: 1.9.0 Command: /Library/Frameworks/R.framework/Resources/bin/R CMD build --keep-empty-dirs --no-resave-data alabaster.spatial StartedAt: 2025-10-27 15:57:15 -0400 (Mon, 27 Oct 2025) EndedAt: 2025-10-27 15:58:06 -0400 (Mon, 27 Oct 2025) EllapsedTime: 51.3 seconds RetCode: 0 Status: OK PackageFile: alabaster.spatial_1.9.0.tar.gz PackageFileSize: 739.1 KiB